BEGIN:VCALENDAR
VERSION:2.0
METHOD:PUBLISH
PRODID:-//Accessible Web Design//My Calendar//http://www.joedolson.com//v//EN';
BEGIN:VEVENT
UID:5-5
LOCATION:
SUMMARY:Inicio Año (Kick Off)
DTSTAMP:20240304T093000
ORGANIZER;CN=Admin:MAILTO:admin@ocalmo.cl
DTSTART:20240304T093000
DTEND:20240304T140000
CATEGORIES:Camaradería
URL;VALUE=URI:https://ocalmo.cl/mc-events/inicio-ano-kick-off/?mc_id=5
DESCRIPTION:
END:VEVENT
END:VCALENDAR