BEGIN:VCALENDAR
VERSION:2.0
METHOD:PUBLISH
PRODID:-//Accessible Web Design//My Calendar//http://www.joedolson.com//v//EN';
BEGIN:VEVENT
UID:4-4
LOCATION:
SUMMARY:Fidelización clientes Feb 28
DTSTAMP:20240228T093000
ORGANIZER;CN=Admin:MAILTO:admin@ocalmo.cl
DTSTART:20240228T093000
DTEND:20240228T104500
CATEGORIES:Fidelización
URL;VALUE=URI:https://ocalmo.cl/mc-events/fidelizacion-clientes-feb-28/?mc_id=4
DESCRIPTION:
END:VEVENT
END:VCALENDAR